BEGIN:VCALENDAR
VERSION:2.0
PRODID:-//ChamberMaster//Event Calendar 2.0//EN
METHOD:PUBLISH
X-PUBLISHED-TTL:P3D
REFRESH-INTERVAL:P3D
CALSCALE:GREGORIAN
BEGIN:VEVENT
DTSTART:20210612T130000Z
DTEND:20210612T160000Z
X-MICROSOFT-CDO-ALLDAYEVENT:FALSE
SUMMARY:Boat Auction
DESCRIPTION:Get out on the water for cheap!  The Deep Creek Lake Lion's Club is auctioning off over thirty boats and trailers\, most with No RESERVE. Auction is open to all and will begin at 9am on June 12\, 2021. Funds raised benefit the Blind Skier and Camper Programs and the other community service of the Deep Creek Lake Lions Club\n\n\n\nFull details and photos of boats to be auctioned here:\n\nhttps://www.facebook.com/media/set?vanity=deepcreeklions&set=a.3563640383701312\n\n\n\nCheck out the Facebook event here:\n\nhttps://www.facebook.com/events/227322502190160\n\n \nBe sure to LIKE the Club's Facebook page so you get updates about new boats coming in!\n\n\n\nThere's still time to donate your old boats\, ATVs\, snowmachines or anything else that would get you a nice tax deduction next year. Contact Chris at 323 325 5466 or DCLLIONS@gmail.com to donate your boat or other recreational equipment today!
X-ALT-DESC;FMTTYPE=text/html:<div>G<span style="font-size:12px">et out on the water for cheap!&nbsp\; The Deep Creek Lake Lion&#39\;s Club is auctioning off over thirty boats and trailers\, most with No RESERVE. Auction is open to all and will begin at <span style="color:#FF0000"><strong>9am</strong></span> on June 12\, 2021. </span>Funds raised benefit the Blind Skier and Camper Programs and the other community service of the Deep Creek Lake Lions Club<br />\n<br />\nFull details and photos of boats to be auctioned here:<br />\n<a href="https://www.facebook.com/media/set?vanity=deepcreeklions&amp\;set=a.3563640383701312">https://www.facebook.com/media/set?vanity=deepcreeklions&amp\;set=a.3563640383701312</a><br />\n<br />\nCheck out the Facebook event here:<br />\n<a href="https://www.facebook.com/events/227322502190160">https://www.facebook.com/events/227322502190160</a><br />\n&nbsp\;</div>\nBe sure to LIKE the Club&#39\;s Facebook page so you get updates about new boats coming in!<br />\n<br />\n<span style="font-size:12px">There&#39\;s still time to donate your old boats\, ATVs\, snowmachines or anything else that would get you a nice tax deduction next year.</span> Contact Chris at 323 325 5466 or DCLLIONS@gmail.com to donate your boat or other recreational equipment today!
LOCATION:Lion's Club Park on 1249 Bumble Road McHenry\, MD (next to HART center and dumpster site)
UID:e.847.33029
SEQUENCE:3
DTSTAMP:20260421T094601Z
URL:https://business.visitdeepcreek.com/events/details/boat-auction-06-12-2021-33029
END:VEVENT

END:VCALENDAR
