BEGIN:VCALENDAR
VERSION:2.0
PRODID:-//ChamberMaster//Event Calendar 2.0//EN
METHOD:PUBLISH
X-PUBLISHED-TTL:P3D
REFRESH-INTERVAL:P3D
CALSCALE:GREGORIAN
BEGIN:VEVENT
DTSTART:20260613T120000Z
DTEND:20260613T150000Z
X-MICROSOFT-CDO-ALLDAYEVENT:FALSE
SUMMARY:Cars & Coffee at Deep Creek
DESCRIPTION:Start your morning at the lake with us.\n\n\n\nJoin us for a laid-back Cars & Coffee at The Shoppes at the Fort at Deep Creek Lake\, where car lovers\, locals\, and weekend visitors come together to kick off the day. Whether you've got something special to bring or just want to walk the lot with a coffee in hand\, you're welcome here.\n\n\n\nAll cars are welcome. Classics\, exotics\, trucks\, daily drivers  if you love it\, bring it.\n\n\n\nRoll in early\, grab a coffee and breakfast from Black Hawk Coffee & Kitchen\, and enjoy the morning. Shops at The Fort will be open and offering special discounts for show guests and participants.\n\n\n\nWe'll feature a Car of the Morning at each event and keep it easy\, fun\, and something you'll look forward to all season.\n\n\n\nPresented by The Savoy Team at The KW Collective\n\nHosted at The Shoppes at The Fort\n\n\n\nBring a friend. Bring your car. Or just come for the coffee and the vibe.
X-ALT-DESC;FMTTYPE=text/html:Start your morning at the lake with us.<br />\n<br />\nJoin us for a laid-back Cars &amp\; Coffee at The Shoppes at the Fort at Deep Creek Lake\, where car lovers\, locals\, and weekend visitors come together to kick off the day. Whether you&rsquo\;ve got something special to bring or just want to walk the lot with a coffee in hand\, you&rsquo\;re welcome here.<br />\n<br />\nAll cars are welcome. Classics\, exotics\, trucks\, daily drivers&hellip\; if you love it\, bring it.<br />\n<br />\nRoll in early\, grab a coffee and breakfast from Black Hawk Coffee &amp\; Kitchen\, and enjoy the morning. Shops at The Fort will be open and offering special discounts for show guests and participants.<br />\n<br />\nWe&rsquo\;ll feature a Car of the Morning at each event and keep it easy\, fun\, and something you&rsquo\;ll look forward to all season.<br />\n<br />\nPresented by The Savoy Team at The KW Collective<br />\nHosted at The Shoppes at The Fort<br />\n<br />\nBring a friend. Bring your car. Or just come for the coffee and the vibe.
LOCATION:The Shoppes at the Fort 1550 Deep Creek Drive McHenry\, MD 21541
UID:e.847.46452
SEQUENCE:3
DTSTAMP:20260425T135124Z
URL:https://business.visitdeepcreek.com/events/details/cars-coffee-at-deep-creek-06-13-2026-46452
END:VEVENT

END:VCALENDAR
