BEGIN:VCALENDAR
VERSION:2.0
PRODID:-//ChamberMaster//Event Calendar 2.0//EN
METHOD:PUBLISH
X-PUBLISHED-TTL:P3D
REFRESH-INTERVAL:P3D
CALSCALE:GREGORIAN
BEGIN:VEVENT
DTSTART:20220826T160000Z
DTEND:20220826T220000Z
X-MICROSOFT-CDO-ALLDAYEVENT:FALSE
SUMMARY:Diehl's Ford Customer Appreciation & President's Award Celebration Car Show
DESCRIPTION:Come out to Diehl's Ford and help us celebrate you! Stop by and enjoy lunch from B-Rad's Pizza on us and look at the cars participating in our car show. There will also be giveaways and other fun events happening during the day! Check out our Facebook event for more details\, sneak peaks at some of the cars that will be available and you can register your vehicle to be at the car show (registration not necessary however the first 50 people to register will receive a free dash plaque).
X-ALT-DESC;FMTTYPE=text/html:Come out to Diehl&#39\;s Ford and help us celebrate you! Stop by and enjoy lunch from B-Rad&#39\;s Pizza on us and look at the cars participating in our car show. There will also be giveaways and other fun events happening during the day! Check out our Facebook event for more details\, sneak peaks at some of the cars that will be available and you can register your vehicle to be at the car show (registration not necessary however the first 50 people to register will receive a free dash plaque).
LOCATION:Diehl's Ford Sales 11782 National Pike Grantsville\, MD 21536
UID:e.847.37732
SEQUENCE:3
DTSTAMP:20260420T125324Z
URL:https://business.visitdeepcreek.com/events/details/diehl-s-ford-customer-appreciation-president-s-award-celebration-car-show-37732
END:VEVENT

END:VCALENDAR
