BEGIN:VCALENDAR
VERSION:2.0
PRODID:-//ChamberMaster//Event Calendar 2.0//EN
METHOD:PUBLISH
X-PUBLISHED-TTL:P3D
REFRESH-INTERVAL:P3D
CALSCALE:GREGORIAN
BEGIN:VEVENT
DTSTART:20220718T140000Z
DTEND:20220721T203000Z
X-MICROSOFT-CDO-ALLDAYEVENT:FALSE
SUMMARY:FARM CAMP 2022
DESCRIPTION:10 a.m.   4:30 p.m. July 18th   July 21st\, 2022\n\nAGES 5-13 years old\n\nAll Earth Eco Tours and Backbone Farm are your hosts for an on-the-farm\, summer day camp for kids ages  5-13. Day Campers will experience the wonders of nature through farming\, fun and artistic expression.  Campers can expect to get their hands dirty as they learn what's it's like to be an organic farmer.  Kids have fun and learn about growing vegetables\, sustainable agriculture\, the benefits of humane livestock management\, some survival skills\, arts and eco-crafts\, mycology and basic animal husbandry. We do SO many great activities - check out the FARM CAMP 2022 web pages.\n\n\n\nFour days on the farm with fresh air\, positive people and nature and say goodbye to nature deficit disorder and the constraints of COVID! Learning about living off the land and nature brings peace\, health and happiness. \n\nWe hope your kids can join us!\n\n\n\nAll Earth Eco Tours is Garrett County's first land and water family adventure company and offers a diverse selection of nature focused activities\, programs\, events and tours. FARM CAMP 2022 is a collaboration between All Earth Eco Tours and Backbone Food Farm.
X-ALT-DESC;FMTTYPE=text/html:<p><strong>10 a.m. &ndash\; 4:30 p.m. July 18th &ndash\; July 21st\, 2022<br />\nAGES 5-13 years old</strong><br />\n<span style="background-color:rgb(255\, 255\, 255)\; color:rgb(51\, 51\, 51)\; font-family:sans-serif\,arial\,verdana\,trebuchet ms\; font-size:13px">All Earth Eco Tours and Backbone Farm are your hosts for an on-the-farm\, summer day camp for kids ages&nbsp\; 5-13. Day Campers will experience the wonders of nature through farming\, fun and artistic expression.&nbsp\; Campers can expect to get their hands dirty as they learn what&rsquo\;s it&rsquo\;s like to be an organic farmer.&nbsp\; Kids have fun and learn about growing vegetables\, sustainable agriculture\, the benefits of humane livestock management\, some survival skills\, arts and eco-crafts\, mycology and basic animal husbandry. We do SO many great activities - <strong><a href="https://backbonefarm.com/category/farm-day-camp-for-kids/" target="_blank" title="Farm Camp For Kids">check out the FARM CAMP 2022 web pages</a>.</strong></span><br />\n<br />\n<span style="background-color:rgb(255\, 255\, 255)\; color:rgb(51\, 51\, 51)\; font-family:sans-serif\,arial\,verdana\,trebuchet ms\; font-size:13px">Four days on the farm with fresh air\, positive people and nature and say goodbye to nature deficit disorder and the constraints of COVID! Learning about living off the land and nature brings peace\, health and happiness. </span></p>\n\n<p><span style="background-color:rgb(255\, 255\, 255)\; color:rgb(51\, 51\, 51)\; font-family:sans-serif\,arial\,verdana\,trebuchet ms\; font-size:13px"><em>We hope your kids can join us!</em></span><br />\n<br />\n<span style="background-color:rgb(255\, 255\, 255)\; font-family:sans-serif\,arial\,verdana\,trebuchet ms\; font-size:13px"><strong><a href="https://allearthecotours.com"><span style="color:#2F4F4F">All Earth Eco Tours</span></a></strong></span><span style="background-color:rgb(255\, 255\, 255)\; color:rgb(51\, 51\, 51)\; font-family:sans-serif\,arial\,verdana\,trebuchet ms\; font-size:13px"> is Garrett County&#39\;s first land and water family adventure company and offers a diverse selection of nature focused activities\, programs\, events and tours. FARM CAMP 2022 is a collaboration between All Earth Eco Tours and <strong><a href="https://backbonefarm.com" target="_blank">Backbone Food Farm</a></strong>.</span></p>\n
LOCATION:Backbone Farm 530 Lynndale Road\, Oakland MD 21550 30-35 minutes from Deep Creek Lake and Thomas West Virginia. Parents pack a lunch for their kids and drop them off and pick them up daily at Backbone Farm.
UID:e.847.36808
SEQUENCE:3
DTSTAMP:20260420T124722Z
URL:https://business.visitdeepcreek.com/events/details/farm-camp-2022-36808
END:VEVENT

END:VCALENDAR
