BEGIN:VCALENDAR
VERSION:2.0
PRODID:-//ChamberMaster//Event Calendar 2.0//EN
METHOD:PUBLISH
X-PUBLISHED-TTL:P3D
REFRESH-INTERVAL:P3D
CALSCALE:GREGORIAN
BEGIN:VEVENT
DTSTART:20211210T003000Z
DTEND:20211210T013000Z
X-MICROSOFT-CDO-ALLDAYEVENT:FALSE
SUMMARY:Frostburg State University Chamber Singers Concert
DESCRIPTION:On Thursday\, December 9\, 2021\, at 7:30 PM\, the Frostburg State University Chamber Singers will perform a concert of choral music here at Crossroads Church. Featuring music by Bach\, Craig Hella Johnson\, Mark Butler\, and more\, this performance includes music for the season and music from the breadth of the choral tradition. A free-will offering will be received to help fund guest instrumentalists for Chamber Singers concerts. Please join us for a terrific evening of song.
X-ALT-DESC;FMTTYPE=text/html:On Thursday\, December 9\, 2021\, at 7:30 PM\, the Frostburg State University Chamber Singers will perform a concert of choral music here at Crossroads Church. Featuring music by Bach\, Craig Hella Johnson\, Mark Butler\, and more\, this performance includes music for the season and music from the breadth of the choral tradition. A free-will offering will be received to help fund guest instrumentalists for Chamber Singers concerts. Please join us for a terrific evening of song.
LOCATION:Crossroads Church 17781 Garrett Hwy Oakland\, MD 21550
UID:e.847.36684
SEQUENCE:3
DTSTAMP:20260421T000232Z
URL:https://business.visitdeepcreek.com/events/details/frostburg-state-university-chamber-singers-concert-36684
END:VEVENT

END:VCALENDAR
