BEGIN:VCALENDAR
VERSION:2.0
PRODID:-//ChamberMaster//Event Calendar 2.0//EN
METHOD:PUBLISH
X-PUBLISHED-TTL:P3D
REFRESH-INTERVAL:P3D
CALSCALE:GREGORIAN
BEGIN:VEVENT
DTSTART:20220725T220000Z
DTEND:20220726T000000Z
X-MICROSOFT-CDO-ALLDAYEVENT:FALSE
SUMMARY:Habitat for Humanity BBQ Fundraiser
DESCRIPTION:Join us for Allegany County Habitat for Humanity's annual fundraiser barbecue with live music\, raffles\, and so much more! Tickets $35\, all proceeds benefit Allegany County Habitat for Humanity.
X-ALT-DESC;FMTTYPE=text/html:<div>Join us for Allegany County Habitat for Humanity&#39\;s annual fundraiser barbecue with live music\, raffles\, and so much more! Tickets $35\, all proceeds benefit Allegany County Habitat for Humanity.&nbsp\;</div>\n\n<div>&nbsp\;</div>\n
LOCATION:The Cornucopia Caf 146 Casselman Rd. Grantsville\, MD 21536
UID:e.847.37836
SEQUENCE:3
DTSTAMP:20260420T124759Z
URL:https://business.visitdeepcreek.com/events/details/habitat-for-humanity-bbq-fundraiser-37836
END:VEVENT

END:VCALENDAR
