BEGIN:VCALENDAR
VERSION:2.0
PRODID:-//ChamberMaster//Event Calendar 2.0//EN
METHOD:PUBLISH
X-PUBLISHED-TTL:P3D
REFRESH-INTERVAL:P3D
CALSCALE:GREGORIAN
BEGIN:VEVENT
DTSTART:20221114T223000Z
DTEND:20221115T013000Z
X-MICROSOFT-CDO-ALLDAYEVENT:FALSE
SUMMARY:Homeownership Education & Finance Class - November 14 & 28
DESCRIPTION:Garrett County Community Action Committee Inc. believes building assets is one of the best ways to achieve economic mobility. Homeownership is a massive milestone for many of our clients\, and hundreds of individuals and families have reached that milestone.\n\n\n\nThe Homeownership Education & Finance classes are held each month and will cover the following material: financing options\, credit review\, mortgage pre-qualification\, real estate contracts\, and homeownership expenses. Call to get your name on the list!\n\n\n\nClick here to register online.
X-ALT-DESC;FMTTYPE=text/html:Garrett County Community Action Committee Inc. believes building assets is one of the best ways to achieve economic mobility. Homeownership is a massive milestone for many of our clients\, and hundreds of individuals and families have reached that milestone.<br />\n<br />\nThe Homeownership Education &amp\; Finance classes are held each month and will cover the following material: financing options\, credit review\, mortgage pre-qualification\, real estate contracts\, and homeownership expenses. Call to get your name on the list!<br />\n<br />\n<a href="https://forms.office.com/pages/responsepage.aspx?id=b_SD8GYydESqrM5BBsT6VxmJwXH97wVKutq2rFTmnydUME1BTExXUVQ0UU0xUkM3VjRIR0I1QjJaSS4u&amp\;fbclid=IwAR2c7ZIp_YCbbXu3n9V6tOiUvVHclh79OZLsovEVymcaKpFGZoHXaEA9tf8">Click here to register online</a>.&nbsp\;
LOCATION:6500 Thayer Ct Oakland\, MD 21550-1116
UID:e.847.37929
SEQUENCE:3
DTSTAMP:20260420T062749Z
URL:https://business.visitdeepcreek.com/events/details/homeownership-education-finance-class-november-14-28-37929
END:VEVENT

END:VCALENDAR
