BEGIN:VCALENDAR
VERSION:2.0
PRODID:-//ChamberMaster//Event Calendar 2.0//EN
METHOD:PUBLISH
X-PUBLISHED-TTL:P3D
REFRESH-INTERVAL:P3D
CALSCALE:GREGORIAN
BEGIN:VEVENT
DTSTART:20230608T213000Z
DTEND:20230608T233000Z
X-MICROSOFT-CDO-ALLDAYEVENT:FALSE
SUMMARY:June Business After Hours 2023
DESCRIPTION:The Chamber is pleased to announce that Thousand Acres Golf Club will be hosting our June Business After Hours on Thursday\, June 8th from 5:30 pm- 7:30 pm. \n\n\n\nThousand Acres Golf Club is Maryland's newest 18 hole Championship Golf Course available for public play\, membership and real estate. \n\n\n\nEnjoy delicious food and drinks as you mingle with fellow Chamber members and Chamber staff at our monthly networking events. Don't forget your business card to enter to win prizes.
X-ALT-DESC;FMTTYPE=text/html:<span style="font-size:16px\;">The Chamber is pleased to announce that Thousand Acres Golf Club will be hosting our June Business After Hours on Thursday\, June 8th from 5:30 pm- 7:30 pm.&nbsp\;<br />\n<br />\nThousand Acres Golf Club is Maryland&#39\;s newest 18 hole Championship Golf Course available for public play\, membership and real estate.&nbsp\;<br />\n<br />\nEnjoy delicious food and drinks as you mingle with fellow Chamber members and Chamber staff at our monthly networking events. Don&#39\;t forget your business card to enter to win prizes.</span>
LOCATION:Thousand Acres Golf Course 500 Lakeside Club Drive Swanton\, MD 21501
UID:e.847.38564
SEQUENCE:3
DTSTAMP:20260419T190113Z
URL:https://business.visitdeepcreek.com/events/details/june-business-after-hours-2023-38564
END:VEVENT

END:VCALENDAR
