BEGIN:VCALENDAR
VERSION:2.0
PRODID:-//ChamberMaster//Event Calendar 2.0//EN
METHOD:PUBLISH
X-PUBLISHED-TTL:P3D
REFRESH-INTERVAL:P3D
CALSCALE:GREGORIAN
BEGIN:VEVENT
DTSTART:20220712T150000Z
DTEND:20220712T160000Z
X-MICROSOFT-CDO-ALLDAYEVENT:FALSE
SUMMARY:Marketing Roundtable: Mountain Maryland Dragon Boat Festival
DESCRIPTION:The Garrett County Chamber of Commerce invites all Chamber members to the next Marketing Roundtable which will feature updates from Dove Center Executive Director Heather Hanline regarding their new event\, the Mountain Maryland Dragon Boat Festival. The meeting is Tuesday\, July 12 from 11 am   12 pm in the Chamber conference room. You can attend in-person or virtually via Zoom. This is a terrific opportunity for area marketing professionals and Chamber member businesses to learn more about this exciting new event in Garrett County. \n\n\n\nThis event is free to attend but is limited to Chamber members\n\n\n\nThe event is free to attend but is limited to Chamber members and registration is required as space is limited. The meeting will be held in the Chamber's conference room at the Visitors Center. To register to attend\, click Register on the left.
X-ALT-DESC;FMTTYPE=text/html:The Garrett County Chamber of Commerce invites all Chamber members to the next Marketing Roundtable which will feature updates from&nbsp\;Dove Center Executive Director Heather Hanline regarding their new event\, the Mountain Maryland Dragon Boat Festival. The meeting is Tuesday\, July 12 from 11 am &ndash\; 12 pm in the Chamber conference room. You can attend in-person or virtually via Zoom. This is a terrific opportunity for area marketing professionals and Chamber member businesses to learn more about this exciting new event in Garrett County.&nbsp\;<br />\n<br />\nThis event is free to attend but is limited to Chamber members<br />\n<br />\n<span style="background:white\;"><span style="color:#333333\;"><span style="font-family:arial\,sans-serif\;"><span style="font-size:10.0pt\;">The event is free to attend but is limited to Chamber members and registration is required as space is limited. The meeting will be held in the Chamber&#39\;s conference room at the Visitors Center. To register to attend\, click Register on the left.&nbsp\;&nbsp\;</span></span></span></span><br />\n&nbsp\;
LOCATION:Chamber Conference Room 15 Visitors Center Drive McHenry\, MD 21541 or virtual event via Zoom\; must register to receive Zoom link.
UID:e.847.37813
SEQUENCE:3
DTSTAMP:20260420T125536Z
URL:https://business.visitdeepcreek.com/events/details/marketing-roundtable-mountain-maryland-dragon-boat-festival-37813
END:VEVENT

END:VCALENDAR
