BEGIN:VCALENDAR
VERSION:2.0
PRODID:-//ChamberMaster//Event Calendar 2.0//EN
METHOD:PUBLISH
X-PUBLISHED-TTL:P3D
REFRESH-INTERVAL:P3D
CALSCALE:GREGORIAN
BEGIN:VEVENT
DTSTART:20210905T140000Z
DTEND:20210905T210000Z
X-MICROSOFT-CDO-ALLDAYEVENT:FALSE
SUMMARY:Pottery Wheel Demonstrations at Deep Creek Pottery
DESCRIPTION:Join us at Deep Creek Pottery on Sunday\, September 5th for FREE pottery wheel demonstrations.\n\n  10:00AM - 5:00PM   Displays of art/pottery and tons of great take and make kits kits will be offered in this outdoor event and also a ceramic garden shop!  A perfect stop while enjoying your Deep Creek Lake vacation! See you soon!
X-ALT-DESC;FMTTYPE=text/html:Join us at Deep Creek Pottery on Sunday\, September 5th for FREE pottery wheel demonstrations.<br />\n&nbsp\; 10:00AM - 5:00PM&nbsp\; &nbsp\;Displays of art/pottery and tons of great take and make kits kits will be offered in this outdoor event and also a ceramic garden shop!&nbsp\; A perfect stop while enjoying your Deep Creek Lake vacation! See you soon!
LOCATION:Deep Creek Pottery 662 Laurel Ridge Road McHenry\, MD 21541 301-501-1619
UID:e.847.34463
SEQUENCE:3
DTSTAMP:20260421T045540Z
URL:https://business.visitdeepcreek.com/events/details/memorial-day-pottery-art-demonstrations-34463
END:VEVENT

END:VCALENDAR
