BEGIN:VCALENDAR
VERSION:2.0
PRODID:-//ChamberMaster//Event Calendar 2.0//EN
METHOD:PUBLISH
X-PUBLISHED-TTL:P3D
REFRESH-INTERVAL:P3D
CALSCALE:GREGORIAN
BEGIN:VEVENT
DTSTART:20260510T150000Z
DTEND:20260510T220000Z
X-MICROSOFT-CDO-ALLDAYEVENT:FALSE
SUMMARY:Mother's Day Buffet at Stonecroft Manor
DESCRIPTION:Celebrate Mother's Day with a beautiful spring celebration buffet at Stonecroft Manor. Join us for a special gathering filled with delicious food\, fresh seasonal flavors\, and family-friendly fun. \n\n\n\nEnjoy a relaxed celebration buffet surrounded by the charm of the manor and sweet springtime treats. It's the perfect way to gather with family and friends and make lasting memories with Mom.
X-ALT-DESC;FMTTYPE=text/html:Celebrate Mother&rsquo\;s Day with a beautiful spring celebration buffet at Stonecroft Manor. Join us for a special gathering filled with delicious food\, fresh seasonal flavors\, and family-friendly fun.&nbsp\;<br />\n<br />\nEnjoy a relaxed celebration buffet surrounded by the charm of the manor and sweet springtime treats. It&rsquo\;s the perfect way to gather with family and friends and make lasting memories with Mom.
LOCATION:Stonecroft Manor 830 Memorial Drive Oakland MD 21550
UID:e.847.46450
SEQUENCE:3
DTSTAMP:20260423T220843Z
URL:https://business.visitdeepcreek.com/events/details/mother-s-day-buffet-at-stonecroft-manor-46450
END:VEVENT

END:VCALENDAR
