BEGIN:VCALENDAR
VERSION:2.0
PRODID:-//ChamberMaster//Event Calendar 2.0//EN
METHOD:PUBLISH
X-PUBLISHED-TTL:P3D
REFRESH-INTERVAL:P3D
CALSCALE:GREGORIAN
BEGIN:VEVENT
DTSTART:20221110T223000Z
DTEND:20221111T003000Z
X-MICROSOFT-CDO-ALLDAYEVENT:FALSE
SUMMARY:November Business After Hours 2022
DESCRIPTION:The Chamber is pleased to announce that Deep Creek Dunk/Special Olympics Maryland will be hosting our November Business After Hours on Thursday\, November 10th\, from 5:30 pm - 7:30 pm at Uno's.\n\n\n\nThe Deep Creek Dunk is an annual event that occurs in February to benefit Special Olympics. Drinks and Appetizers will be provided to include the opportunity to try the Dunk Tito's Drink before it is released to the public. You will also have the chance to win some great door prizes which include: Gift Cards to Uno\, a Tito's Gift Basket\, Dunk VIP tickets and swag. This is going to be a great opportunity to learn more about the Deep Creek Dunk meet some local Special Olympics athletes.  Funding from the Deep Creek Dunk fully funds Garrett County Special Olympics.   \n\n \n\nEnjoy delicious food and drinks as you mingle with fellow Chamber members and Chamber staff at our monthly networking events. Don't forget your business card to enter to win prizes.
X-ALT-DESC;FMTTYPE=text/html:The Chamber is pleased to announce that Deep Creek Dunk/Special Olympics Maryland will be hosting our November Business After Hours on Thursday\, November 10th\,&nbsp\;from 5:30 pm - 7:30 pm at Uno&#39\;s.<br />\n<br />\nThe Deep Creek Dunk is an annual event that occurs in February to benefit Special Olympics. Drinks and Appetizers will be provided to include the opportunity to try the Dunk Tito&rsquo\;s Drink before it is released to the public. You will also have the chance to win some great door prizes which include: Gift Cards to Uno\, a Tito&rsquo\;s Gift Basket\, Dunk VIP tickets and swag. This is going to be a great opportunity to learn more about the Deep Creek Dunk meet some local Special Olympics athletes.&nbsp\; Funding from the Deep Creek Dunk fully funds Garrett County Special Olympics.&nbsp\; &nbsp\;<br />\n&nbsp\;<br />\nEnjoy delicious food and drinks as you mingle with fellow Chamber members and Chamber staff at our monthly networking events. Don&#39\;t forget your business card to enter to win prizes.
LOCATION:UNO's Restaurant 19814 Garrett Highway Oakland\, MD 21550
UID:e.847.36747
SEQUENCE:3
DTSTAMP:20260420T061329Z
URL:https://business.visitdeepcreek.com/events/details/november-business-after-hours-2022-36747
END:VEVENT

END:VCALENDAR
