BEGIN:VCALENDAR
VERSION:2.0
PRODID:-//ChamberMaster//Event Calendar 2.0//EN
METHOD:PUBLISH
X-PUBLISHED-TTL:P3D
REFRESH-INTERVAL:P3D
CALSCALE:GREGORIAN
BEGIN:VEVENT
DTSTART;VALUE=DATE:20301006
DTEND;VALUE=DATE:20301007
TRANSP:TRANSPARENT
X-MICROSOFT-CDO-ALLDAYEVENT:TRUE
SUMMARY:Open Mic Jam at The Green Room
DESCRIPTION:Come\, bring your instrument\, bring your voice\, and join in on an open music jam at The Green Room. This is an acoustic open mic and jam session\, all styles and all people are welcome!
X-ALT-DESC;FMTTYPE=text/html:Come\, bring your instrument\, bring your voice\, and join in on an open music jam at The Green Room. This is an acoustic open mic and jam session\, all styles and all people are welcome!
LOCATION:The Green Room Lounge 119 S 2nd Street Oakland MD 21550
UID:e.847.46162
SEQUENCE:3
DTSTAMP:20260421T045144Z
URL:https://business.visitdeepcreek.com/events/details/open-mic-jam-at-the-green-room-10-06-2030-46162
END:VEVENT

END:VCALENDAR
