BEGIN:VCALENDAR
VERSION:2.0
PRODID:-//ChamberMaster//Event Calendar 2.0//EN
METHOD:PUBLISH
X-PUBLISHED-TTL:P3D
REFRESH-INTERVAL:P3D
CALSCALE:GREGORIAN
BEGIN:VEVENT
DTSTART;VALUE=DATE:20260425
DTEND;VALUE=DATE:20260426
TRANSP:TRANSPARENT
X-MICROSOFT-CDO-ALLDAYEVENT:TRUE
SUMMARY:Ribbon Cutting & Field Dedication Ceremony: First United Community Field at Garrett College
DESCRIPTION:Garrett College's turf field will officially be dedicated as First United Community Field between games of the Lakers' April 25th baseball doubleheader against Westmoreland County (PA) Community College.\n\n\n\nThe dedication will take place at approximately 2:30 p.m.   after the 1 p.m. opener and before the 3 p.m. nightcap. As part of the ceremony\, First United Bank & Trust President and Chief Executive Officer Jason Rush will throw out the ceremonial first pitch prior to Game 2.\n\n\n\nFirst United's leadership recently announced that the facility's official name would be First United Community Field.\n\n\n\nCelebrate this exciting milestone for Garrett College Athletics and cheer on the Lakers in a full afternoon of baseball.
X-ALT-DESC;FMTTYPE=text/html:Garrett College&#39\;s turf field will officially be dedicated as First United Community Field between games of the Lakers&#39\; April 25th baseball doubleheader against Westmoreland County (PA) Community College.<br />\n<br />\nThe dedication will take place at approximately 2:30 p.m. &ndash\; after the 1 p.m. opener and before the 3 p.m. nightcap. As part of the ceremony\, First United Bank &amp\; Trust President and Chief Executive Officer Jason Rush will throw out the ceremonial first pitch prior to Game 2.<br />\n<br />\nFirst United&#39\;s leadership recently announced that the facility&#39\;s official name would be First United Community Field.<br />\n<br />\nCelebrate this exciting milestone for Garrett College Athletics and cheer on the Lakers in a full afternoon of baseball.
LOCATION:First United Community Field 687 Mosser Road McHenry\, MD 21541
UID:e.847.46449
SEQUENCE:3
DTSTAMP:20260421T005000Z
URL:https://business.visitdeepcreek.com/events/details/ribbon-cutting-field-dedication-ceremony-first-united-community-field-at-garrett-college-46449
END:VEVENT

END:VCALENDAR
