BEGIN:VCALENDAR
VERSION:2.0
PRODID:-//ChamberMaster//Event Calendar 2.0//EN
METHOD:PUBLISH
X-PUBLISHED-TTL:P3D
REFRESH-INTERVAL:P3D
CALSCALE:GREGORIAN
BEGIN:VEVENT
DTSTART:20210626T150000Z
DTEND:20210626T220000Z
X-MICROSOFT-CDO-ALLDAYEVENT:FALSE
SUMMARY:Riggleman's & Sons Flooring Community Appreciation Day
DESCRIPTION:We are having a customer appreciation day to celebrate the people of our community that have supported our journey during the past 3 years! \n\n\n\nPrevious customers\, current customers\, and future customers please stop by and see us! This is our small way of giving back and everyone is welcome. \n\n\n\nCome out and see us - Visit our new showroom! \n\n\n\nMoose will be the DJ & bringing some good sounds\, while Heavy Duty will be grilling some awesome BBQ. \n\n\n\nOn this da\, we will also be offering 10% OFF your product order if you set up a time to have your home measured and you purchase by September 26\, 2021.
X-ALT-DESC;FMTTYPE=text/html:We are having a customer appreciation day to celebrate the people of our community that have supported our journey during the past 3 years!&nbsp\;<br />\n<br />\nPrevious customers\, current customers\, and future customers please stop by and see us! This is our small way of giving back and everyone is welcome.&nbsp\;<br />\n<br />\nCome out and see us - Visit our new showroom!&nbsp\;<br />\n<br />\nMoose will be the DJ &amp\; bringing some good sounds\, while Heavy Duty will be grilling some awesome BBQ.&nbsp\;<br />\n<br />\nOn this da\, we will also be offering 10% OFF your product order if you set up a time to have your home measured and you purchase by September 26\, 2021.&nbsp\;
LOCATION:Riggleman's & Sons Flooring 89 Pleasant Hill Drive Oakland\, MD 21550
UID:e.847.36125
SEQUENCE:3
DTSTAMP:20260421T094727Z
URL:https://business.visitdeepcreek.com/events/details/riggleman-s-sons-flooring-community-appreciation-day-36125
END:VEVENT

END:VCALENDAR
