BEGIN:VCALENDAR
VERSION:2.0
PRODID:-//ChamberMaster//Event Calendar 2.0//EN
METHOD:PUBLISH
X-PUBLISHED-TTL:P3D
REFRESH-INTERVAL:P3D
CALSCALE:GREGORIAN
BEGIN:VEVENT
DTSTART;VALUE=DATE:20220604
DTEND;VALUE=DATE:20220605
TRANSP:TRANSPARENT
X-MICROSOFT-CDO-ALLDAYEVENT:TRUE
SUMMARY:Shop Artwork and Decor to benefit Habitat for Humanity
DESCRIPTION:Shop Artwork and Decor to benefit Habitat for Humanity\n\nMarsh Hill Mercantile is excited to partner with Garrett County Habitat for Humanity to support the building of new Habitat homes!  This is a great opportunity for residents to do some "Spring cleaning" and even find some cool new decor for your home by shopping at The Gallery!  \n\n\n\nHOURS:\n\nSaturdays - 12:00 PM - 7:00 PM\n\nSundays - 12:00 PM - 4:00 PM\n\n \n\nItems donated will be displayed at the Gallery at Marsh Hill for sale. Proceeds benefit Garrett County Habitat for Humanity.\n\nGet involved through a donation or just by shopping donated artwork and decor!\n\n\n\nABOUT MARSH HILL MERCANTILE:  Marsh Hill Mercantile provides a venue for local artists and artisans to offer their works for sale in the heart of Deep Creek Lake's tourist attractions\, restaurants\, and shopping.  The Market also offers a wide variety of additional home d cor\, entertaining accessories and has just launched The Studio   which will hold hands-on arts and crafts classes.\n\n\n\nABOUT GARRETT COUNTY HABITAT FOR HUMANITY:  Garrett County Habitat for Humanity was organized in 1983 and incorporated in the State of Maryland in 1984.  Since 1983\, we have built 76 houses\, but including our rehab and repair work in conjunction with other agencies\, we have touched the lives of 213 families in Garrett County.  Our building rate\, based on houses built for every 10\,000 people is above both the median and average in our region.
X-ALT-DESC;FMTTYPE=text/html:<p><span style="font-family:arial\,helvetica\,sans-serif"><span style="font-size:18px"><strong>Shop Artwork and Decor to benefit Habitat for Humanity</strong></span></span></p>\n\n<p><span style="font-size:14px"><span style="font-family:arial\,helvetica\,sans-serif"><strong>Marsh Hill Mercantile is excited to partner with Garrett County Habitat for Humanity to support the building of new Habitat homes! &nbsp\;This is a great opportunity for residents to do some &quot\;Spring cleaning&quot\; and even find some cool new decor for your home by shopping at The Gallery! &nbsp\;<br />\n<br />\nHOURS:<br />\nSaturdays - 12:00 PM - 7:00 PM<br />\nSundays - 12:00 PM - 4:00 PM</strong></span></span><br />\n&nbsp\;</p>\n\n<p><span style="font-size:14px"><span style="font-family:arial\,helvetica\,sans-serif"><strong>Items donated will be displayed at the Gallery at Marsh Hill for sale. Proceeds benefit Garrett County Habitat for Humanity.</strong></span></span></p>\n\n<p><span style="font-size:14px"><strong><span style="font-family:arial\,helvetica\,sans-serif">Get involved through a donation or just by shopping donated artwork and decor!</span></strong><br />\n<br />\n<span style="font-family:arial\,helvetica\,sans-serif"><span style="color:black">ABOUT MARSH HILL MERCANTILE:&nbsp\; Marsh Hill Mercantile provides a venue for local artists and artisans to offer their works for sale in the heart of Deep Creek Lake&rsquo\;s tourist attractions\, restaurants\, and shopping.&nbsp\; The Market also offers a wide variety of additional home d&eacute\;cor\, entertaining accessories and has just launched The Studio &ndash\; which will hold hands-on arts and crafts classes.<br />\n<br />\nABOUT GARRETT COUNTY HABITAT FOR HUMANITY:&nbsp\; </span><span style="color:#233452">Garrett County Habitat for Humanity was organized in 1983 and incorporated in the State of Maryland in 1984.&nbsp\; Since 1983\, we have built 76 houses\, but including our rehab and repair work in conjunction with other agencies\, we have touched the lives of 213 families in Garrett County.&nbsp\; Our building rate\, based on houses built for every 10\,000 people is above both the median and average in our region.</span></span></span><br />\n<br />\n&nbsp\;</p>\n
LOCATION:1550-D Deep Creek Drive\, McHenry\, MD 21541
UID:e.847.37640
SEQUENCE:3
DTSTAMP:20260420T142035Z
URL:https://business.visitdeepcreek.com/events/details/shop-artwork-and-decor-to-benefit-habitat-for-humanity-37640
END:VEVENT

END:VCALENDAR
