BEGIN:VCALENDAR
VERSION:2.0
PRODID:-//ChamberMaster//Event Calendar 2.0//EN
METHOD:PUBLISH
X-PUBLISHED-TTL:P3D
REFRESH-INTERVAL:P3D
CALSCALE:GREGORIAN
BEGIN:VEVENT
DTSTART:20220704T160000Z
DTEND:20220704T210000Z
X-MICROSOFT-CDO-ALLDAYEVENT:FALSE
SUMMARY:The Studio - Face Painting on the Fourth
DESCRIPTION:Get your face painted for the fireworks!\n\n\n\nJoin us for all-day fun and stake out your spot in the parking lot - one of the best vantage points for the big show!\n\n \nAbout The Studio: Guests are welcome to bring snacks and drinks. Bottled water\, Western Maryland Lemonade and some snacks will be available for purchase. Guests are permitted to bring their own adult beverages. We encourage you to visit our neighbors for snacks and beverages. (Our sister store - A Mountain FIx\, Short Story Brewing Company\, Pine Lodge Steakhouse\, Black Bear Tavern and Deep Creek Funzone).\n\n \n\nThe Gallery at Marsh Hill Mercantile will be open during breaks for browsing and shopping our local artists!
X-ALT-DESC;FMTTYPE=text/html:<span style="color:rgb(5\, 5\, 5)\; font-family:segoe ui historic\,segoe ui\,helvetica\,arial\,sans-serif"><span style="font-size:14px"><strong>Get your face painted for the fireworks!</strong></span><br />\n<br />\n<span style="font-size:14px">Join us for all-day fun and stake out your spot in the parking lot - one of the best vantage points for the big show!</span></span><br />\n&nbsp\;\n<div><span style="font-size:14px"><strong>About The Studio:</strong>&nbsp\;Guests are welcome to bring snacks and drinks. Bottled water\, Western Maryland Lemonade and some snacks will be available for purchase. Guests are permitted to bring their own adult beverages. We encourage you to visit our neighbors for snacks and beverages. (Our sister store - A Mountain FIx\, Short Story Brewing Company\, Pine Lodge Steakhouse\, Black Bear Tavern and Deep Creek Funzone).</span><br />\n&nbsp\;</div>\n\n<div><span style="font-size:14px">The Gallery at Marsh Hill Mercantile will be open during breaks for browsing and shopping our local artists!</span></div>\n
LOCATION:1550-D Deep Creek Drive\, McHenry\, MD 21541
UID:e.847.37738
SEQUENCE:3
DTSTAMP:20260420T124858Z
URL:https://business.visitdeepcreek.com/events/details/the-studio-face-painting-on-the-fourth-37738
END:VEVENT

END:VCALENDAR
