BEGIN:VCALENDAR
VERSION:2.0
PRODID:-//ChamberMaster//Event Calendar 2.0//EN
METHOD:PUBLISH
X-PUBLISHED-TTL:P3D
REFRESH-INTERVAL:P3D
CALSCALE:GREGORIAN
BEGIN:VEVENT
DTSTART:20211030T190000Z
DTEND:20211030T220000Z
X-MICROSOFT-CDO-ALLDAYEVENT:FALSE
SUMMARY:Trick or Treat at A Mountain Fix @ Deep Creek Lake
DESCRIPTION:Come out early on October 30th with your little gremlins and ghouls! You can enjoy a craft beer at Short Story Brewing while kids in costume get a treat at A Mountain Fix.\n\n \n\nAnd ADULTS in costume get an EXTRA treat! Shop A Mountain Fix in costume for a 15% discount!
X-ALT-DESC;FMTTYPE=text/html:<div>Come out early on October 30th with your little gremlins and ghouls! You can enjoy a craft beer at Short Story Brewing while kids in costume get a treat at A Mountain Fix.<br />\n&nbsp\;</div>\n\n<div>And ADULTS in costume get an EXTRA treat! Shop A Mountain Fix in costume for a 15% discount!&nbsp\;</div>\n
LOCATION:1550 Deep Creek Drive\, Suite G\, McHenry\, MD 21541
UID:e.847.36656
SEQUENCE:3
DTSTAMP:20260421T031052Z
URL:https://business.visitdeepcreek.com/events/details/trick-or-treat-at-a-mountain-fix-deep-creek-lake-36656
END:VEVENT

END:VCALENDAR
